BEGIN:VCALENDAR
VERSION:2.0
PRODID:-//Canine Comprehension - ECPv6.15.20//NONSGML v1.0//EN
CALSCALE:GREGORIAN
METHOD:PUBLISH
X-WR-CALNAME:Canine Comprehension
X-ORIGINAL-URL:https://caninecomprehension.com.au
X-WR-CALDESC:Events for Canine Comprehension
REFRESH-INTERVAL;VALUE=DURATION:PT1H
X-Robots-Tag:noindex
X-PUBLISHED-TTL:PT1H
BEGIN:VTIMEZONE
TZID:UTC
BEGIN:STANDARD
TZOFFSETFROM:+0000
TZOFFSETTO:+0000
TZNAME:UTC
DTSTART:20240101T000000
END:STANDARD
END:VTIMEZONE
BEGIN:VTIMEZONE
TZID:Australia/Melbourne
BEGIN:STANDARD
TZOFFSETFROM:+1100
TZOFFSETTO:+1000
TZNAME:AEST
DTSTART:20240406T160000
END:STANDARD
BEGIN:DAYLIGHT
TZOFFSETFROM:+1000
TZOFFSETTO:+1100
TZNAME:AEDT
DTSTART:20241005T160000
END:DAYLIGHT
BEGIN:STANDARD
TZOFFSETFROM:+1100
TZOFFSETTO:+1000
TZNAME:AEST
DTSTART:20250405T160000
END:STANDARD
BEGIN:DAYLIGHT
TZOFFSETFROM:+1000
TZOFFSETTO:+1100
TZNAME:AEDT
DTSTART:20251004T160000
END:DAYLIGHT
BEGIN:STANDARD
TZOFFSETFROM:+1100
TZOFFSETTO:+1000
TZNAME:AEST
DTSTART:20260404T160000
END:STANDARD
BEGIN:DAYLIGHT
TZOFFSETFROM:+1000
TZOFFSETTO:+1100
TZNAME:AEDT
DTSTART:20261003T160000
END:DAYLIGHT
END:VTIMEZONE
BEGIN:VEVENT
DTSTART;TZID=UTC:20250310T000000
DTEND;TZID=UTC:20250310T235959
DTSTAMP:20260421T021305
CREATED:20241204T143259Z
LAST-MODIFIED:20241204T143259Z
UID:3556-1741564800-1741651199@caninecomprehension.com.au
SUMMARY:Labor Day
DESCRIPTION:Labor Day Public Holiday
URL:https://caninecomprehension.com.au/dates/labor-day/
END:VEVENT
BEGIN:VEVENT
DTSTART;TZID=UTC:20250404T000000
DTEND;TZID=UTC:20250404T235959
DTSTAMP:20260421T021305
CREATED:20241204T143337Z
LAST-MODIFIED:20241204T143337Z
UID:3558-1743724800-1743811199@caninecomprehension.com.au
SUMMARY:Last day of Term 1
DESCRIPTION:Last day of Term 1 2025
URL:https://caninecomprehension.com.au/dates/last-day-of-term-1/
END:VEVENT
BEGIN:VEVENT
DTSTART;TZID=Australia/Melbourne:20251013T080000
DTEND;TZID=Australia/Melbourne:20251013T170000
DTSTAMP:20260421T021305
CREATED:20250821T032541Z
LAST-MODIFIED:20250821T032605Z
UID:5171-1760342400-1760374800@caninecomprehension.com.au
SUMMARY:Term 4 Starts
DESCRIPTION:Term 4 starts today!
URL:https://caninecomprehension.com.au/dates/term-4-starts/
CATEGORIES:Important Dates & Events For Partners
END:VEVENT
END:VCALENDAR